BEGIN:VCALENDAR
VERSION:2.0
PRODID:-//ChamberMaster//Event Calendar 2.0//EN
METHOD:PUBLISH
X-PUBLISHED-TTL:P3D
REFRESH-INTERVAL:P3D
CALSCALE:GREGORIAN
BEGIN:VEVENT
DTSTART:20191120T210000Z
DTEND:20191120T213000Z
X-MICROSOFT-CDO-ALLDAYEVENT:FALSE
SUMMARY:Ribbon Cutting: Comfort Suites
DESCRIPTION:Join us for the one year anniversary!
X-ALT-DESC;FMTTYPE=text/html:Join us for the one year anniversary!
LOCATION:835 Route 52 Fishkill
UID:e.2770.10481473
SEQUENCE:3
DTSTAMP:20260422T154903Z
URL:http://dutchesscountyregional.smartcms.site/events/details/ribbon-cutting-comfort-suites-10481473
END:VEVENT

END:VCALENDAR
