BEGIN:VCALENDAR
VERSION:2.0
PRODID:-//ChamberMaster//Event Calendar 2.0//EN
METHOD:PUBLISH
X-PUBLISHED-TTL:P3D
REFRESH-INTERVAL:P3D
CALSCALE:GREGORIAN
BEGIN:VEVENT
DTSTART:20190412T200000Z
DTEND:20190412T210000Z
X-MICROSOFT-CDO-ALLDAYEVENT:FALSE
SUMMARY:Ribbon Cutting: Curry Estate/Le Chambord
DESCRIPTION:Join us for the grand opening!
X-ALT-DESC;FMTTYPE=text/html:Join us for the grand opening!&nbsp\;&nbsp\;&nbsp\;&nbsp\;
LOCATION:2737 Route 52 Hopewell Junction
UID:e.2770.10480518
SEQUENCE:3
DTSTAMP:20260423T055530Z
URL:http://dutchesscountyregional.smartcms.site/events/details/ribbon-cutting-curry-estate-le-chambord-10480518
END:VEVENT

END:VCALENDAR
