BEGIN:VCALENDAR
VERSION:2.0
PRODID:-//ChamberMaster//Event Calendar 2.0//EN
METHOD:PUBLISH
X-PUBLISHED-TTL:P3D
REFRESH-INTERVAL:P3D
CALSCALE:GREGORIAN
BEGIN:VEVENT
DTSTART:20200220T210000Z
DTEND:20200220T213000Z
X-MICROSOFT-CDO-ALLDAYEVENT:FALSE
SUMMARY:Ribbon Cutting: Dutchess Care Assisted Living/PAZ Management
DESCRIPTION:True to its mission of providing pioneering care\, PAZ Management\, Inc. announces the launch of a unique PILOT program at its affiliate\, Dutchess Care Assisted Living in Poughkeepsie. The program\, called an Assisted Living Program for a Specialty Population (ALP SP)\, is the first assisted living option in New York State that is specifically designed to meet the needs of low-income\, Medicaid-funded adults with traumatic brain injuries (TBI).\n\n\n\nTo celebrate the launch of the PILOT program\, the Dutchess County Regional Chamber of Commerce will host a ribbon cutting ceremony on Thursday\, February 20 at 4 p.m. at Dutchess Care Assisted Living\, located at 186 Washington Street\, Poughkeepsie. The event is free and open to the public.
X-ALT-DESC;FMTTYPE=text/html:<span style="background:white\;"><span style="color:#111111\;"><span style="font-family:helvetica\,sans-serif\;"><span style="font-size:13.5pt\;">True to its mission of providing pioneering care\,&nbsp\;</span></span></span></span><a href="https://pazmgmt.com/" target="_blank"><span style="background:white\;text-decoration-line:none\;"><span style="color:#009e13\;"><span style="font-family:helvetica\,sans-serif\;"><span style="font-size:13.5pt\;">PAZ Management\, Inc.</span></span></span></span></a><span style="background:white\;"><span style="color:#111111\;"><span style="font-family:helvetica\,sans-serif\;"><span style="font-size:13.5pt\;">&nbsp\;announces the launch of a unique PILOT program at its affiliate\, Dutchess Care Assisted Living in Poughkeepsie. The program\, called an Assisted Living Program for a Specialty Population (ALP SP)\, is the first assisted living option in New York State that is specifically designed to meet the needs of low-income\, Medicaid-funded adults with traumatic brain injuries (TBI).</span></span></span></span><br />\n<br />\n<span style="color:#111111\;"><span style="font-family:helvetica\,sans-serif\;"><span style="font-size:13.5pt\;"><span style="background:white\;">To celebrate the launch of the PILOT program\, the Dutchess County Regional Chamber of Commerce will host a ribbon cutting ceremony on Thursday\, February 20 at 4 p.m. at Dutchess Care Assisted Living\, located at 186 Washington Street\, Poughkeepsie. The event is free and open to the public.</span></span></span></span>
LOCATION:Dutchess Care Assisted Living PAZ Management 186 Washington Street Poughkeepsie
UID:e.2770.10482646
SEQUENCE:3
DTSTAMP:20260422T103556Z
URL:http://dutchesscountyregional.smartcms.site/events/details/ribbon-cutting-dutchess-care-assisted-living-paz-management-10482646
END:VEVENT

END:VCALENDAR
