BEGIN:VCALENDAR
VERSION:2.0
PRODID:-//ChamberMaster//Event Calendar 2.0//EN
METHOD:PUBLISH
X-PUBLISHED-TTL:P3D
REFRESH-INTERVAL:P3D
CALSCALE:GREGORIAN
BEGIN:VEVENT
DTSTART:20190627T150000Z
DTEND:20190627T160000Z
X-MICROSOFT-CDO-ALLDAYEVENT:FALSE
SUMMARY:Ribbon Cutting: Dutchess County Department of Community and Family Services
DESCRIPTION:Join us to celebrate the department's refurbished entrance and reception area.\n\n\n\n*Please RSVP by calling the County Executive's Office at\n\n845-486-2000 by June 25.
X-ALT-DESC;FMTTYPE=text/html:<br />\n<span style="font-size: 18px\;"><span style="font-family: calibri\;"><span style="font-family: times new roman\;"><strong><span style="color: rgb(0\, 0\, 0)\;">Join us to celebrate the department&rsquo\;s refurbished entrance and reception area.</span></strong></span></span><br />\n<br />\n<span style="font-family: times new roman\;"><strong><span style="color: rgb(255\, 0\, 0)\;">*Please RSVP by calling the County Executive&rsquo\;s Office at<br />\n845-486-2000 by June 25. </span></strong></span></span><br />\n&nbsp\;
LOCATION:Dutchess County Department of Community and Family Services 60 Market Street Poughkeepsie
UID:e.2770.10480962
SEQUENCE:3
DTSTAMP:20260423T021439Z
URL:http://dutchesscountyregional.smartcms.site/events/details/ribbon-cutting-dutchess-county-department-of-community-and-family-services-10480962
END:VEVENT

END:VCALENDAR
