BEGIN:VCALENDAR
VERSION:2.0
PRODID:-//ChamberMaster//Event Calendar 2.0//EN
METHOD:PUBLISH
X-PUBLISHED-TTL:P3D
REFRESH-INTERVAL:P3D
CALSCALE:GREGORIAN
BEGIN:VEVENT
DTSTART:20180621T200000Z
DTEND:20180621T210000Z
X-MICROSOFT-CDO-ALLDAYEVENT:FALSE
SUMMARY:Ribbon Cutting - Eye Appeal Optical
DESCRIPTION:Join us to celebrate the one year anniversary!
X-ALT-DESC;FMTTYPE=text/html:Join us to celebrate the one year anniversary!
LOCATION:1097 Route 55\, Suite 4 Lagrangeville
UID:e.2770.10477813
SEQUENCE:3
DTSTAMP:20260426T022700Z
URL:http://dutchesscountyregional.smartcms.site/events/details/ribbon-cutting-eye-appeal-optical-10477813
END:VEVENT

END:VCALENDAR
