BEGIN:VCALENDAR
VERSION:2.0
PRODID:-//ChamberMaster//Event Calendar 2.0//EN
METHOD:PUBLISH
X-PUBLISHED-TTL:P3D
REFRESH-INTERVAL:P3D
CALSCALE:GREGORIAN
BEGIN:VEVENT
DTSTART:20190510T200000Z
DTEND:20190510T210000Z
X-MICROSOFT-CDO-ALLDAYEVENT:FALSE
SUMMARY:Ribbon Cutting: Family Services
DESCRIPTION:Join us in celebrating their new project!
X-ALT-DESC;FMTTYPE=text/html:Join us in celebrating their new project!
LOCATION:29 North Hamilton Street Poughkeepsie
UID:e.2770.10480533
SEQUENCE:3
DTSTAMP:20260423T035214Z
URL:http://dutchesscountyregional.smartcms.site/events/details/ribbon-cutting-family-services-10480533
END:VEVENT

END:VCALENDAR
