BEGIN:VCALENDAR
VERSION:2.0
PRODID:-//ChamberMaster//Event Calendar 2.0//EN
METHOD:PUBLISH
X-PUBLISHED-TTL:P3D
REFRESH-INTERVAL:P3D
CALSCALE:GREGORIAN
BEGIN:VEVENT
DTSTART:20190506T200000Z
DTEND:20190506T210000Z
X-MICROSOFT-CDO-ALLDAYEVENT:FALSE
SUMMARY:Ribbon Cutting- Family Smiles of the Hudson Valley
DESCRIPTION:Celebrating over 30 years of Quality Dental Care and New Beginnings!
X-ALT-DESC;FMTTYPE=text/html:Celebrating over 30 years of Quality Dental Care and New Beginnings!
LOCATION:939 NY Route 376 Suite #1 Wappingers Falls
UID:e.2770.10480432
SEQUENCE:3
DTSTAMP:20260423T035423Z
URL:http://dutchesscountyregional.smartcms.site/events/details/ribbon-cutting-family-smiles-of-the-hudson-valley-10480432
END:VEVENT

END:VCALENDAR
