BEGIN:VCALENDAR
VERSION:2.0
PRODID:-//ChamberMaster//Event Calendar 2.0//EN
METHOD:PUBLISH
X-PUBLISHED-TTL:P3D
REFRESH-INTERVAL:P3D
CALSCALE:GREGORIAN
BEGIN:VEVENT
DTSTART:20190115T170000Z
DTEND:20190115T180000Z
X-MICROSOFT-CDO-ALLDAYEVENT:FALSE
SUMMARY:Ribbon Cutting - Farmers and Chefs
DESCRIPTION:Join us in celebrating the new location!
X-ALT-DESC;FMTTYPE=text/html:<span style="font-size:16px\;">Join us in celebrating the new location!</span>
LOCATION:40 Albany Street Poughkeepsie
UID:e.2770.10479948
SEQUENCE:3
DTSTAMP:20260425T123838Z
URL:http://dutchesscountyregional.smartcms.site/events/details/ribbon-cutting-farmers-and-chefs-10479948
END:VEVENT

END:VCALENDAR
