BEGIN:VCALENDAR
VERSION:2.0
PRODID:-//ChamberMaster//Event Calendar 2.0//EN
METHOD:PUBLISH
X-PUBLISHED-TTL:P3D
REFRESH-INTERVAL:P3D
CALSCALE:GREGORIAN
BEGIN:VEVENT
DTSTART:20190502T200000Z
DTEND:20190502T210000Z
X-MICROSOFT-CDO-ALLDAYEVENT:FALSE
SUMMARY:Ribbon Cutting-Flourish Wealth Advisors
DESCRIPTION:Join us for the celebration!
X-ALT-DESC;FMTTYPE=text/html:Join us for the celebration!
LOCATION:2531 Route 52 Suite 207 Hopewell Junction
UID:e.2770.10480428
SEQUENCE:3
DTSTAMP:20260423T035219Z
URL:http://dutchesscountyregional.smartcms.site/events/details/ribbon-cutting-flourish-wealth-advisors-10480428
END:VEVENT

END:VCALENDAR
