BEGIN:VCALENDAR
VERSION:2.0
PRODID:-//ChamberMaster//Event Calendar 2.0//EN
METHOD:PUBLISH
X-PUBLISHED-TTL:P3D
REFRESH-INTERVAL:P3D
CALSCALE:GREGORIAN
BEGIN:VEVENT
DTSTART:20190618T200000Z
DTEND:20190618T210000Z
X-MICROSOFT-CDO-ALLDAYEVENT:FALSE
SUMMARY:Ribbon Cutting: Friendly Place
DESCRIPTION:Join us for the grand opening!
X-ALT-DESC;FMTTYPE=text/html:Join us for the grand opening!
LOCATION:1097 Route 55 Lagrangeville
UID:e.2770.10480526
SEQUENCE:3
DTSTAMP:20260423T021207Z
URL:http://dutchesscountyregional.smartcms.site/events/details/ribbon-cutting-friendly-place-10480526
END:VEVENT

END:VCALENDAR
