BEGIN:VCALENDAR
VERSION:2.0
PRODID:-//ChamberMaster//Event Calendar 2.0//EN
METHOD:PUBLISH
X-PUBLISHED-TTL:P3D
REFRESH-INTERVAL:P3D
CALSCALE:GREGORIAN
BEGIN:VEVENT
DTSTART:20191108T210000Z
DTEND:20191108T220000Z
X-MICROSOFT-CDO-ALLDAYEVENT:FALSE
SUMMARY:Ribbon Cutting: Hudson Square Boutique
DESCRIPTION:Join us for the grand opening!
X-ALT-DESC;FMTTYPE=text/html:Join us for the grand opening!
LOCATION:107 Route 376\, Suite 2 Hopewell Junction
UID:e.2770.10481167
SEQUENCE:3
DTSTAMP:20260422T155008Z
URL:http://dutchesscountyregional.smartcms.site/events/details/ribbon-cutting-hudson-square-boutique-10481167
END:VEVENT

END:VCALENDAR
