BEGIN:VCALENDAR
VERSION:2.0
PRODID:-//ChamberMaster//Event Calendar 2.0//EN
METHOD:PUBLISH
X-PUBLISHED-TTL:P3D
REFRESH-INTERVAL:P3D
CALSCALE:GREGORIAN
BEGIN:VEVENT
DTSTART:20191004T200000Z
DTEND:20191004T210000Z
X-MICROSOFT-CDO-ALLDAYEVENT:FALSE
SUMMARY:Ribbon Cutting: La Puerta Azul
DESCRIPTION:Join us as we celebrate their five year anniversary!
X-ALT-DESC;FMTTYPE=text/html:Join us as we celebrate their five year anniversary!
LOCATION:2510 Route 44 Salt Point
UID:e.2770.10481026
SEQUENCE:3
DTSTAMP:20260422T172807Z
URL:http://dutchesscountyregional.smartcms.site/events/details/ribbon-cutting-la-puerta-azul-10481026
END:VEVENT

END:VCALENDAR
