BEGIN:VCALENDAR
VERSION:2.0
PRODID:-//ChamberMaster//Event Calendar 2.0//EN
METHOD:PUBLISH
X-PUBLISHED-TTL:P3D
REFRESH-INTERVAL:P3D
CALSCALE:GREGORIAN
BEGIN:VEVENT
DTSTART:20191024T200000Z
DTEND:20191024T210000Z
X-MICROSOFT-CDO-ALLDAYEVENT:FALSE
SUMMARY:Ribbon Cutting: Milea Estate Vineyard
DESCRIPTION:Join us for the grand opening of their new tasting room!
X-ALT-DESC;FMTTYPE=text/html:Join us for the grand opening of their new tasting room!
LOCATION:450 Hollow Road Staatsburg
UID:e.2770.10481178
SEQUENCE:3
DTSTAMP:20260422T172839Z
URL:http://dutchesscountyregional.smartcms.site/events/details/ribbon-cutting-milea-estate-vineyard-10481178
END:VEVENT

END:VCALENDAR
