BEGIN:VCALENDAR
VERSION:2.0
PRODID:-//ChamberMaster//Event Calendar 2.0//EN
METHOD:PUBLISH
X-PUBLISHED-TTL:P3D
REFRESH-INTERVAL:P3D
CALSCALE:GREGORIAN
BEGIN:VEVENT
DTSTART:20200110T210000Z
DTEND:20200110T213000Z
X-MICROSOFT-CDO-ALLDAYEVENT:FALSE
SUMMARY:Ribbon Cutting: Premier Medical Group
DESCRIPTION:Join us as we celebrate their new location!
X-ALT-DESC;FMTTYPE=text/html:<span style="font-size:16px\;"><span style="font-family:tahoma\;">Join us as we celebrate their new location!</span></span>
LOCATION:Eastdale Village Town Center 50 Eastdale Avenue North Poughkeepsie
UID:e.2770.10482559
SEQUENCE:3
DTSTAMP:20260422T121633Z
URL:http://dutchesscountyregional.smartcms.site/events/details/ribbon-cutting-premier-medical-group-10482559
END:VEVENT

END:VCALENDAR
