BEGIN:VCALENDAR
VERSION:2.0
PRODID:-//ChamberMaster//Event Calendar 2.0//EN
METHOD:PUBLISH
X-PUBLISHED-TTL:P3D
REFRESH-INTERVAL:P3D
CALSCALE:GREGORIAN
BEGIN:VEVENT
DTSTART:20191007T200000Z
DTEND:20191007T210000Z
X-MICROSOFT-CDO-ALLDAYEVENT:FALSE
SUMMARY:Ribbon Cutting: Puro Clean Professional Restoration Services
DESCRIPTION:Join us for the grand opening!
X-ALT-DESC;FMTTYPE=text/html:Join us for the grand opening!&nbsp\;&nbsp\;&nbsp\;&nbsp\;&nbsp\;&nbsp\;&nbsp\;&nbsp\;
LOCATION:66 Fireman's Way Poughkeepsie
UID:e.2770.10481144
SEQUENCE:3
DTSTAMP:20260422T172841Z
URL:http://dutchesscountyregional.smartcms.site/events/details/ribbon-cutting-puro-clean-professional-restoration-services-10481144
END:VEVENT

END:VCALENDAR
