BEGIN:VCALENDAR
VERSION:2.0
PRODID:-//ChamberMaster//Event Calendar 2.0//EN
METHOD:PUBLISH
X-PUBLISHED-TTL:P3D
REFRESH-INTERVAL:P3D
CALSCALE:GREGORIAN
BEGIN:VEVENT
DTSTART:20180515T160000Z
DTEND:20180515T170000Z
X-MICROSOFT-CDO-ALLDAYEVENT:FALSE
SUMMARY:Ribbon Cutting - Renaissance Kids\, Inc.
DESCRIPTION:Join us to celebrate Renaissance Kids\, Inc. new location!
X-ALT-DESC;FMTTYPE=text/html:<span style="font-size: 16px\;"><span style="font-family: arial\;"><span style="background-color: rgb(255\, 255\, 255)\;">Join us to celebrate Renaissance Kids\, Inc. new location!</span></span></span>
LOCATION:1343 Route 44 Pleasant Valley\, NY 12569
UID:e.2770.10476802
SEQUENCE:3
DTSTAMP:20260426T034349Z
URL:http://dutchesscountyregional.smartcms.site/events/details/ribbon-cutting-renaissance-kids-inc-10476802
END:VEVENT

END:VCALENDAR
