BEGIN:VCALENDAR
VERSION:2.0
PRODID:-//ChamberMaster//Event Calendar 2.0//EN
METHOD:PUBLISH
X-PUBLISHED-TTL:P3D
REFRESH-INTERVAL:P3D
CALSCALE:GREGORIAN
BEGIN:VEVENT
DTSTART:20190308T170000Z
DTEND:20190308T180000Z
X-MICROSOFT-CDO-ALLDAYEVENT:FALSE
SUMMARY:Ribbon Cutting: Simplicity Outlet
DESCRIPTION:Join us for the grand opening!
X-ALT-DESC;FMTTYPE=text/html:Join us for the grand opening! &nbsp\; &nbsp\;
LOCATION:1 Civic Center Plaza Poughkeepsie
UID:e.2770.10480470
SEQUENCE:3
DTSTAMP:20260423T071950Z
URL:http://dutchesscountyregional.smartcms.site/events/details/ribbon-cutting-simplicity-outlet-10480470
END:VEVENT

END:VCALENDAR
