BEGIN:VCALENDAR
VERSION:2.0
PRODID:-//ChamberMaster//Event Calendar 2.0//EN
METHOD:PUBLISH
X-PUBLISHED-TTL:P3D
REFRESH-INTERVAL:P3D
CALSCALE:GREGORIAN
BEGIN:VEVENT
DTSTART:20200306T210000Z
DTEND:20200306T213000Z
X-MICROSOFT-CDO-ALLDAYEVENT:FALSE
SUMMARY:Ribbon Cutting: The Brothers that just do Gutters
DESCRIPTION:Join us as we celebrate their new location as well as their 20th anniversary in the business!
X-ALT-DESC;FMTTYPE=text/html:<span style="font-size:16px\;"><span style="font-family:tahoma\;">Join us as we celebrate their new location as well as their 20th anniversary in the business!</span></span>
LOCATION:The Brothers that just do Gutters 55 Page Park Drive Poughkeepsie
UID:e.2770.10482647
SEQUENCE:3
DTSTAMP:20260422T091757Z
URL:http://dutchesscountyregional.smartcms.site/events/details/ribbon-cutting-the-brothers-that-just-do-gutters-10482647
END:VEVENT

END:VCALENDAR
