BEGIN:VCALENDAR
VERSION:2.0
PRODID:-//ChamberMaster//Event Calendar 2.0//EN
METHOD:PUBLISH
X-PUBLISHED-TTL:P3D
REFRESH-INTERVAL:P3D
CALSCALE:GREGORIAN
BEGIN:VEVENT
DTSTART:20190628T200000Z
DTEND:20190628T210000Z
X-MICROSOFT-CDO-ALLDAYEVENT:FALSE
SUMMARY:Ribbon Cutting: The O'Neill Group-Dutton\, LLC
DESCRIPTION:Join us for the grand opening!
X-ALT-DESC;FMTTYPE=text/html:Join us for the grand opening!&nbsp\;&nbsp\;&nbsp\;&nbsp\;&nbsp\;&nbsp\;&nbsp\;&nbsp\;
LOCATION:1 Dutchess Avenue Poughkeepsie
UID:e.2770.10480815
SEQUENCE:3
DTSTAMP:20260423T021226Z
URL:http://dutchesscountyregional.smartcms.site/events/details/ribbon-cutting-the-o-neill-group-dutton-llc-10480815
END:VEVENT

END:VCALENDAR
