BEGIN:VCALENDAR
VERSION:2.0
PRODID:-//ChamberMaster//Event Calendar 2.0//EN
METHOD:PUBLISH
X-PUBLISHED-TTL:P3D
REFRESH-INTERVAL:P3D
CALSCALE:GREGORIAN
BEGIN:VEVENT
DTSTART:20181206T210000Z
DTEND:20181206T220000Z
X-MICROSOFT-CDO-ALLDAYEVENT:FALSE
SUMMARY:Ribbon Cutting - The Salt Therapy Room
DESCRIPTION:Join us in celebrating the grand opening!
X-ALT-DESC;FMTTYPE=text/html:Join us in celebrating the grand opening!&nbsp\;&nbsp\;&nbsp\;
LOCATION:The Salt Therapy Room 301 Titusville Road\, Lower Level\, Suite 100 Poughkeepsie
UID:e.2770.10479812
SEQUENCE:3
DTSTAMP:20260425T142606Z
URL:http://dutchesscountyregional.smartcms.site/events/details/ribbon-cutting-the-salt-therapy-room-10479812
END:VEVENT

END:VCALENDAR
