BEGIN:VCALENDAR
VERSION:2.0
PRODID:-//ChamberMaster//Event Calendar 2.0//EN
METHOD:PUBLISH
X-PUBLISHED-TTL:P3D
REFRESH-INTERVAL:P3D
CALSCALE:GREGORIAN
BEGIN:VEVENT
DTSTART:20191101T200000Z
DTEND:20191101T210000Z
X-MICROSOFT-CDO-ALLDAYEVENT:FALSE
SUMMARY:Ribbon Cutting: ZoMo Yoga
DESCRIPTION:Join us for the grand opening!
X-ALT-DESC;FMTTYPE=text/html:Join us for the grand opening!&nbsp\;&nbsp\;&nbsp\;&nbsp\;&nbsp\;&nbsp\;&nbsp\;&nbsp\;
LOCATION:1097 Route 55 Lagrangeville
UID:e.2770.10481165
SEQUENCE:3
DTSTAMP:20260422T155117Z
URL:http://dutchesscountyregional.smartcms.site/events/details/ribbon-cutting-zomo-yoga-10481165
END:VEVENT

END:VCALENDAR
