BEGIN:VCALENDAR
VERSION:2.0
PRODID:-//ChamberMaster//Event Calendar 2.0//EN
METHOD:PUBLISH
X-PUBLISHED-TTL:P3D
REFRESH-INTERVAL:P3D
CALSCALE:GREGORIAN
BEGIN:VEVENT
DTSTART:20181124T233000Z
DTEND:20181125T043000Z
X-MICROSOFT-CDO-ALLDAYEVENT:FALSE
SUMMARY:Roger's Folly Dance with La Familia Swinging Blues Band at the Howland Center
DESCRIPTION:Join us for another rockin' evening of Swing\, Blues\, and all types of Dancing with La Familia Swinging Blues Band at Roger's Folly's beautiful indoor winter dance venue at the historic Howland Center. Saturday\, November 24th 6:30-7:30 | Intermediate swing clinic by Paolo Pasta Lanna | $15. 7:30-8:00 | Basic Dance Lesson | Free. 8:00-11:30 | Dance Party | $20. The Howland Center\, 477 Main Street Beacon\, NY For more information please call (845) 205-2900 or email info@innspabeacon.com.
X-ALT-DESC;FMTTYPE=text/html:Join us for another rockin&#39\; evening of Swing\, Blues\, and all types of Dancing with La Familia Swinging Blues Band at Roger&rsquo\;s Folly&rsquo\;s beautiful indoor winter dance venue at the historic Howland Center. Saturday\, November 24th 6:30-7:30 | Intermediate swing clinic by Paolo Pasta Lanna | $15. 7:30-8:00 | Basic Dance Lesson | Free. 8:00-11:30 | Dance Party | $20. The Howland Center\, 477 Main Street Beacon\, NY For more information please call (845) 205-2900 or email info@innspabeacon.com.
LOCATION:The Howland Center\, 477 Main Street Beacon\, NY
UID:e.2770.10479849
SEQUENCE:3
DTSTAMP:20260425T160610Z
URL:http://dutchesscountyregional.smartcms.site/events/details/roger-s-folly-dance-with-la-familia-swinging-blues-band-at-the-howland-center-10479849
END:VEVENT

END:VCALENDAR
