BEGIN:VCALENDAR
VERSION:2.0
PRODID:-//ChamberMaster//Event Calendar 2.0//EN
METHOD:PUBLISH
X-PUBLISHED-TTL:P3D
REFRESH-INTERVAL:P3D
CALSCALE:GREGORIAN
BEGIN:VEVENT
DTSTART:20190207T000000Z
DTEND:20190207T030000Z
X-MICROSOFT-CDO-ALLDAYEVENT:FALSE
SUMMARY:Roger's Folly Wednesday Night Dance at the Howland Center
DESCRIPTION:Roger's Folly Presents the Weekly Wednesday Night Dance at the Historic Howland Cultural Center Join us Wednesday nights and dance to Swing\, Blues\, Waltz\, or your own style. There will be a free introductory Swing dance lesson at the beginning of each night. Swing Dance Lesson: 7:00PM DJ Dance: 7:30PM - 10:00PM Admission: $12 For more info call the Inn and Spa at Beacon at (845) 205-2900 or send an email to info@innspabeacon.com
X-ALT-DESC;FMTTYPE=text/html:Roger&#39\;s Folly Presents the Weekly Wednesday Night Dance at the Historic Howland Cultural Center Join us Wednesday nights and dance to Swing\, Blues\, Waltz\, or your own style. There will be a free introductory Swing dance lesson at the beginning of each night. Swing Dance Lesson: 7:00PM DJ Dance: 7:30PM - 10:00PM Admission: $12 For more info call the Inn and Spa at Beacon at (845) 205-2900 or send an email to info@innspabeacon.com
LOCATION:477 Main Street\, Beacon\, NY 10528
UID:e.2770.10480444
SEQUENCE:3
DTSTAMP:20260423T084052Z
URL:http://dutchesscountyregional.smartcms.site/events/details/roger-s-folly-wednesday-night-dance-at-the-howland-center-02-06-2019-10480444
END:VEVENT

END:VCALENDAR
