BEGIN:VCALENDAR
VERSION:2.0
PRODID:-//ChamberMaster//Event Calendar 2.0//EN
METHOD:PUBLISH
X-PUBLISHED-TTL:P3D
REFRESH-INTERVAL:P3D
CALSCALE:GREGORIAN
BEGIN:VEVENT
DTSTART:20190505T170000Z
DTEND:20190505T200000Z
X-MICROSOFT-CDO-ALLDAYEVENT:FALSE
SUMMARY:Ronald McDonald House Walk Over the Hudson
DESCRIPTION:Join us as we Walk Over the Hudson on the Walkway! \n\n \nJoin us this year as we Walk for Ronald McDonald House of the Greater Hudson Valley. Our Grand Marshall this year is Deskin Burton from Wappingers Falls. Deskin Burton and his twin brother Jake were born at just 24 weeks and 3 days gestation at Westchester Medical Center in January 2013.  Deskin weighed 1 lb\, 10 oz\, at birth and was just 12 inches long.  Tragically\, Jake passed away when they were two days old due to complications from extreme prematurity.  Deskin spent 176 days in the NICU at Maria Fareri Children's Hospital\, before transferring to Blythedale Children's Hospital\, a children's rehabilitation center where his parents learned to care for his special medical needs. Throughout his time in both hospitals\, Deskin's parents stayed at the Ronald McDonald House of the Greater Hudson Valley.  After a total of 286 days\, Deskin came home in November 2013.  In January\, 2018\, Deskin gained a little brother named Chayton.  Deskin is currently a kindergartner at Vail Farm Elementary School in LaGrangeville.
X-ALT-DESC;FMTTYPE=text/html:<strong>Join us as we Walk Over the Hudson on the Walkway!&nbsp\;</strong><br />\n&nbsp\;\n<div style="text-align:justify"><strong>Join us this year as we Walk for Ronald McDonald House of the Greater Hudson Valley. Our Grand Marshall this year is Deskin Burton from Wappingers Falls. Deskin Burton and his twin brother Jake were born at just 24 weeks and 3 days gestation at Westchester Medical Center in January 2013.&nbsp\; Deskin weighed 1 lb\, 10 oz\, at birth and was just 12 inches long.&nbsp\; Tragically\, Jake passed away when they were two days old due to complications from extreme prematurity.&nbsp\; Deskin spent 176 days in the NICU at Maria Fareri Children&rsquo\;s Hospital\, before transferring to Blythedale Children&rsquo\;s Hospital\, a children&rsquo\;s rehabilitation center where his parents learned to care for his special medical needs. Throughout his time in both hospitals\, Deskin&rsquo\;s parents stayed at the Ronald McDonald House of the Greater Hudson Valley.&nbsp\; After a total of 286 days\, Deskin came home in November 2013.&nbsp\; In January\, 2018\, Deskin gained a little brother named Chayton.&nbsp\; Deskin is currently a kindergartner&nbsp\;at Vail Farm Elementary School in LaGrangeville.</strong></div>\n\n<div>&nbsp\;</div>\n
LOCATION:61 Parker Avenue Poughkeepsie\, NY 12601 USA
UID:e.2770.10480637
SEQUENCE:3
DTSTAMP:20260423T035158Z
URL:http://dutchesscountyregional.smartcms.site/events/details/ronald-mcdonald-house-walk-over-the-hudson-10480637
END:VEVENT

END:VCALENDAR
