BEGIN:VCALENDAR
VERSION:2.0
PRODID:-//ChamberMaster//Event Calendar 2.0//EN
METHOD:PUBLISH
X-PUBLISHED-TTL:P3D
REFRESH-INTERVAL:P3D
CALSCALE:GREGORIAN
BEGIN:VEVENT
DTSTART:20191102T140000Z
DTEND:20191102T190000Z
X-MICROSOFT-CDO-ALLDAYEVENT:FALSE
SUMMARY:SACRED DAY OF HEALING
DESCRIPTION:TIME TO REJUVENATE SELF!\n\nJoin a great day of Sound healing\, Reiki & Aura-Soma Colour Therapy.\n\nLimited Space available.\n\nBook online today.
X-ALT-DESC;FMTTYPE=text/html:TIME TO REJUVENATE SELF!<br />\nJoin a great day of Sound healing\, Reiki &amp\; Aura-Soma Colour Therapy.<br />\nLimited Space available.<br />\nBook online today.
LOCATION:The Source NY 143 Boardman Rd\, Bldg 3 Poughkeepsie\, NY
UID:e.2770.10481422
SEQUENCE:3
DTSTAMP:20260422T154952Z
URL:http://dutchesscountyregional.smartcms.site/events/details/sacred-day-of-healing-10481422
END:VEVENT

END:VCALENDAR
