BEGIN:VCALENDAR
VERSION:2.0
PRODID:-//ChamberMaster//Event Calendar 2.0//EN
METHOD:PUBLISH
X-PUBLISHED-TTL:P3D
REFRESH-INTERVAL:P3D
CALSCALE:GREGORIAN
BEGIN:VEVENT
DTSTART:20181212T220000Z
DTEND:20181213T000000Z
X-MICROSOFT-CDO-ALLDAYEVENT:FALSE
SUMMARY:Sadie's Place NY\, LLC 1st Anniversary
DESCRIPTION:Sadie's Place NY\, LLC Social Adult Day Service is proud to celebrate our 1st anniversary. Please join us to share in this special event. "Improve Their Lives and Yours"
X-ALT-DESC;FMTTYPE=text/html:Sadie&#39\;s Place NY\, LLC Social Adult Day Service is proud to celebrate our 1st anniversary. Please join us to share in this special event. &quot\;Improve Their Lives and Yours&quot\;
LOCATION:143 Boardman Rd\, Bldg 3 Poughkeepsie\, NY
UID:e.2770.10479856
SEQUENCE:3
DTSTAMP:20260425T142604Z
URL:http://dutchesscountyregional.smartcms.site/events/details/sadie-s-place-ny-llc-1st-anniversary-10479856
END:VEVENT

END:VCALENDAR
