BEGIN:VCALENDAR
VERSION:2.0
PRODID:-//ChamberMaster//Event Calendar 2.0//EN
METHOD:PUBLISH
X-PUBLISHED-TTL:P3D
REFRESH-INTERVAL:P3D
CALSCALE:GREGORIAN
BEGIN:VEVENT
DTSTART:20191212T220000Z
DTEND:20191213T000000Z
X-MICROSOFT-CDO-ALLDAYEVENT:FALSE
SUMMARY:Sadie's Place NY\, LLC 2nd Anniversary
DESCRIPTION:Stop in to say hi as we celebrate our second year serving the community.
X-ALT-DESC;FMTTYPE=text/html:Stop in to say hi as we celebrate our second year serving the community.&nbsp\;
LOCATION:143 Boardman Rd\, Bldg 3 Poughkeepsie\, NY
UID:e.2770.10482605
SEQUENCE:3
DTSTAMP:20260422T135851Z
URL:http://dutchesscountyregional.smartcms.site/events/details/sadie-s-place-ny-llc-2nd-anniversary-10482605
END:VEVENT

END:VCALENDAR
