BEGIN:VCALENDAR
VERSION:2.0
PRODID:-//ChamberMaster//Event Calendar 2.0//EN
METHOD:PUBLISH
X-PUBLISHED-TTL:P3D
REFRESH-INTERVAL:P3D
CALSCALE:GREGORIAN
BEGIN:VEVENT
DTSTART:20181209T163000Z
DTEND:20181209T190000Z
X-MICROSOFT-CDO-ALLDAYEVENT:FALSE
SUMMARY:Santa Brunch at The Links
DESCRIPTION:Join us for a delicious brunch buffet! Back again is the ever popular Santa Brunch here at the Links at Union Vale! Eggs Benedict\, Pasta\, Carving Station\, Fish\, Dessert Table with Sundae Bar\, Cakes\, Pastries\, and more! Following the Brunch there will be music\, pictures with Santa\, goodie bags for the kids\, and much more! RSVP:845.223.1002 Sales@luvgolf.com
X-ALT-DESC;FMTTYPE=text/html:<span style="color:rgb(29\, 33\, 41)\; font-family:helvetica\,arial\,sans-serif\; font-size:14px">Join us for a delicious brunch buffet! Back again is the ever popular Santa Brunch here at the Links at Union Vale! Eggs Benedict\, Pasta\, Carving Station\, Fish\, Dessert Table with Sundae Bar\, Cakes\, Pastries\, and more! Following the Brunch there will be music\, pictures with Santa\, goodie bags for the kids\, and much more! RSVP:845.223.1002 Sales@luvgolf.com</span>
LOCATION:The Links at Union Vale 153 North Parliman Road LaGrangeville\, NY 12540
UID:e.2770.10479843
SEQUENCE:3
DTSTAMP:20260425T142704Z
URL:http://dutchesscountyregional.smartcms.site/events/details/santa-brunch-at-the-links-12-09-2018-10479843
END:VEVENT

END:VCALENDAR
