BEGIN:VCALENDAR
VERSION:2.0
PRODID:-//ChamberMaster//Event Calendar 2.0//EN
METHOD:PUBLISH
X-PUBLISHED-TTL:P3D
REFRESH-INTERVAL:P3D
CALSCALE:GREGORIAN
BEGIN:VEVENT
DTSTART:20191129T170000Z
DTEND:20191129T170000Z
X-MICROSOFT-CDO-ALLDAYEVENT:FALSE
SUMMARY:Santa on the Walkway
DESCRIPTION:Santa Claus is coming to Walkway Over the Hudson State Historic Park the Friday after Thanksgiving. Visitors are welcome to have their picture taken with Santa.
X-ALT-DESC;FMTTYPE=text/html:Santa Claus is coming to Walkway Over the Hudson State Historic Park the Friday after Thanksgiving. Visitors are welcome to have their picture taken with Santa.
LOCATION:Walkway Over the Hudson Entrance
UID:e.2770.10480631
SEQUENCE:3
DTSTAMP:20260422T155008Z
URL:http://dutchesscountyregional.smartcms.site/events/details/santa-on-the-walkway-11-29-2019-10480631
END:VEVENT

END:VCALENDAR
