BEGIN:VCALENDAR
VERSION:2.0
PRODID:-//ChamberMaster//Event Calendar 2.0//EN
METHOD:PUBLISH
X-PUBLISHED-TTL:P3D
REFRESH-INTERVAL:P3D
CALSCALE:GREGORIAN
BEGIN:VEVENT
DTSTART:20241023T210000Z
DTEND:20241023T220000Z
X-MICROSOFT-CDO-ALLDAYEVENT:FALSE
SUMMARY:Save Vassar Warner Home
DESCRIPTION:Join the grassroots movement\, Save Vassar-Warner\, for its upcoming stakeholder meeting on Wednesday\, October 23\, at 5 p.m. at 52 South Hamilton Street in Poughkeepsie\, NY. Updates will be shared on recent changes in leadership\, secured funding and more. For additional information\, visit https://www.savevassarwarner.com/
X-ALT-DESC;FMTTYPE=text/html:<span style="color:rgb(0\, 0\, 0)\; font-family:aptos\,aptos_embeddedfont\,aptos_msfontservice\,calibri\,helvetica\,sans-serif\; font-size:16px">Join the grassroots movement\, Save Vassar-Warner\, for its upcoming stakeholder meeting on Wednesday\, October 23\, at 5 p.m. at 52 South Hamilton Street in Poughkeepsie\, NY. Updates will be shared on recent changes in leadership\, secured funding and more. For additional information\, visit&nbsp\;</span><a class="x_OWAAutoLink" href="https://www.savevassarwarner.com/" id="LPlnk710963" rel="noopener noreferrer" style="border: 0px\; font-variant-numeric: inherit\; font-variant-east-asian: inherit\; font-variant-alternates: inherit\; font-variant-position: inherit\; font-stretch: inherit\; font-size: 16px\; line-height: inherit\; font-family: Aptos\, Aptos_EmbeddedFont\, Aptos_MSFontService\, Calibri\, Helvetica\, sans-serif\; font-optical-sizing: inherit\; font-size-adjust: inherit\; font-kerning: inherit\; font-feature-settings: inherit\; font-variation-settings: inherit\; margin: 0px\; padding: 0px\; vertical-align: baseline\;" target="_blank">https://www.savevassarwarner.com/</a>
LOCATION:Location: Vassar-Warner Home - 52 South Hamilton Street\, Poughkeepsie\, NY
UID:e.2770.10499128
SEQUENCE:3
DTSTAMP:20260420T084052Z
URL:http://dutchesscountyregional.smartcms.site/events/details/save-vassar-warner-home-10499128
END:VEVENT

END:VCALENDAR
