BEGIN:VCALENDAR
VERSION:2.0
PRODID:-//ChamberMaster//Event Calendar 2.0//EN
METHOD:PUBLISH
X-PUBLISHED-TTL:P3D
REFRESH-INTERVAL:P3D
CALSCALE:GREGORIAN
BEGIN:VEVENT
DTSTART:20200410T190000Z
DTEND:20200410T200000Z
X-MICROSOFT-CDO-ALLDAYEVENT:FALSE
SUMMARY:School of Rock Beacon\, NY FREE Virtual Learning Event - Song Mapping
DESCRIPTION:At School of Rock Beacon\, NY\, the health & safety of our\n\nstudents and staff is our top priority. Our FREE Live Virtual\n\nLearning Event Series are designed to support our\n\nHudson Valley Community during this challenging time by\n\nproviding virtual content to continue your musical\n\neducation journey.\n\nSchool of Rock Beacon's Music Director - Tin Monk\n\nwill cover the important aspects of Song Mapping\n\nincluding: Intro | Verse | Chorus | Bridge | Solo | Outro &\n\nMORE...
X-ALT-DESC;FMTTYPE=text/html:At School of Rock Beacon\, NY\, the health &amp\; safety of our<br>\nstudents and staff is our top priority. Our FREE Live Virtual<br>\nLearning Event Series are designed to support our<br>\nHudson Valley Community during this challenging time by<br>\nproviding virtual content to continue your musical<br>\neducation journey.<br>\nSchool of Rock Beacon's Music Director - Tin Monk<br>\nwill cover the important aspects of Song Mapping<br>\nincluding: Intro | Verse | Chorus | Bridge | Solo | Outro &amp\;<br>\nMORE...
LOCATION:https://bit.ly/2VjiQoG
UID:e.2770.10483250
SEQUENCE:3
DTSTAMP:20260422T072325Z
URL:http://dutchesscountyregional.smartcms.site/events/details/school-of-rock-beacon-ny-free-virtual-learning-event-song-mapping-10483250
END:VEVENT

END:VCALENDAR
