BEGIN:VCALENDAR
VERSION:2.0
PRODID:-//ChamberMaster//Event Calendar 2.0//EN
METHOD:PUBLISH
X-PUBLISHED-TTL:P3D
REFRESH-INTERVAL:P3D
CALSCALE:GREGORIAN
BEGIN:VEVENT
DTSTART:20190528T223000Z
DTEND:20190529T000000Z
X-MICROSOFT-CDO-ALLDAYEVENT:FALSE
SUMMARY:SCORE Workshop: Business Plans 101
DESCRIPTION:The purpose is to overview Why a Plan\, What to Include\, Who get the Value from the Plan and the importance of keeping it simple.  This session will discuss the parts of a Business Plan including:\n\n   Business Plan Importance\;      Executive Summary      The Business Description      The Business Structure      The Business Value      Management\n\n   Personnel      Marketing      Competition      Financials      Funding      Capital      Business Principles
X-ALT-DESC;FMTTYPE=text/html:<p style="margin: 0px\;"><span style="margin: 0px\; color: rgb(51\, 51\, 51)\; font-family: &quot\;Helvetica&quot\;\,sans-serif\; font-size: 10pt\;">The purpose is to overview Why a Plan\, What to Include\, Who get the Value from the Plan and the importance of keeping it simple.&nbsp\; This session will discuss the parts of a Business Plan including:</span></p>\n\n<p style="margin: 0px 0px 0px 48px\; text-indent: -0.25in\;"><span style="margin: 0px\; color: rgb(51\, 51\, 51)\; font-family: Symbol\; font-size: 10pt\;">&middot\;</span><span style="margin: 0px\; color: rgb(51\, 51\, 51)\; font-family: &quot\;Helvetica&quot\;\,sans-serif\; font-size: 10pt\;">&nbsp\; Business Plan Importance\;&nbsp\;&nbsp\; </span><span style="margin: 0px\; color: rgb(51\, 51\, 51)\; font-family: Symbol\; font-size: 10pt\;">&middot\;</span><span style="margin: 0px\; color: rgb(51\, 51\, 51)\; font-family: &quot\;Helvetica&quot\;\,sans-serif\; font-size: 10pt\;">&nbsp\; Executive Summary&nbsp\;&nbsp\; </span><span style="margin: 0px\; color: rgb(51\, 51\, 51)\; font-family: Symbol\; font-size: 10pt\;">&middot\;</span><span style="margin: 0px\; color: rgb(51\, 51\, 51)\; font-family: &quot\;Helvetica&quot\;\,sans-serif\; font-size: 10pt\;">&nbsp\; The Business Description&nbsp\;&nbsp\; </span><span style="margin: 0px\; color: rgb(51\, 51\, 51)\; font-family: Symbol\; font-size: 10pt\;">&middot\;</span><span style="margin: 0px\; color: rgb(51\, 51\, 51)\; font-family: &quot\;Helvetica&quot\;\,sans-serif\; font-size: 10pt\;">&nbsp\; The Business Structure&nbsp\;&nbsp\; </span><span style="margin: 0px\; color: rgb(51\, 51\, 51)\; font-family: Symbol\; font-size: 10pt\;">&middot\;</span><span style="margin: 0px\; color: rgb(51\, 51\, 51)\; font-family: &quot\;Helvetica&quot\;\,sans-serif\; font-size: 10pt\;">&nbsp\; The Business Value&nbsp\;&nbsp\; </span><span style="margin: 0px\; color: rgb(51\, 51\, 51)\; font-family: Symbol\; font-size: 10pt\;">&middot\;</span><span style="margin: 0px\; color: rgb(51\, 51\, 51)\; font-family: &quot\;Helvetica&quot\;\,sans-serif\; font-size: 10pt\;">&nbsp\; Management</span></p>\n\n<p style="margin: 0px 0px 0px 48px\; text-indent: -0.25in\;"><span style="margin: 0px\; color: rgb(51\, 51\, 51)\; font-family: Symbol\; font-size: 10pt\;">&middot\;</span><span style="margin: 0px\; color: rgb(51\, 51\, 51)\; font-family: &quot\;Helvetica&quot\;\,sans-serif\; font-size: 10pt\;">&nbsp\; Personnel&nbsp\;&nbsp\; </span><span style="margin: 0px\; color: rgb(51\, 51\, 51)\; font-family: Symbol\; font-size: 10pt\;">&middot\;</span><span style="margin: 0px\; color: rgb(51\, 51\, 51)\; font-family: &quot\;Helvetica&quot\;\,sans-serif\; font-size: 10pt\;">&nbsp\; Marketing&nbsp\;&nbsp\; </span><span style="margin: 0px\; color: rgb(51\, 51\, 51)\; font-family: Symbol\; font-size: 10pt\;">&middot\;</span><span style="margin: 0px\; color: rgb(51\, 51\, 51)\; font-family: &quot\;Helvetica&quot\;\,sans-serif\; font-size: 10pt\;">&nbsp\; Competition&nbsp\;&nbsp\; </span><span style="margin: 0px\; color: rgb(51\, 51\, 51)\; font-family: Symbol\; font-size: 10pt\;">&middot\;</span><span style="margin: 0px\; color: rgb(51\, 51\, 51)\; font-family: &quot\;Helvetica&quot\;\,sans-serif\; font-size: 10pt\;">&nbsp\; Financials&nbsp\;&nbsp\; </span><span style="margin: 0px\; color: rgb(51\, 51\, 51)\; font-family: Symbol\; font-size: 10pt\;">&middot\;</span><span style="margin: 0px\; color: rgb(51\, 51\, 51)\; font-family: &quot\;Helvetica&quot\;\,sans-serif\; font-size: 10pt\;">&nbsp\; Funding&nbsp\;&nbsp\; </span><span style="margin: 0px\; color: rgb(51\, 51\, 51)\; font-family: Symbol\; font-size: 10pt\;">&middot\;</span><span style="margin: 0px\; color: rgb(51\, 51\, 51)\; font-family: &quot\;Helvetica&quot\;\,sans-serif\; font-size: 10pt\;">&nbsp\; Capital&nbsp\;&nbsp\; </span><span style="margin: 0px\; color: rgb(51\, 51\, 51)\; font-family: Symbol\; font-size: 10pt\;">&middot\;</span><span style="margin: 0px\; color: rgb(51\, 51\, 51)\; font-family: &quot\;Helvetica&quot\;\,sans-serif\; font-size: 10pt\;">&nbsp\; Business Principles</span></p>\n
LOCATION:Alley Room at the East Fishkill Community Library
UID:e.2770.10480438
SEQUENCE:3
DTSTAMP:20260423T034952Z
URL:http://dutchesscountyregional.smartcms.site/events/details/score-workshop-business-plans-101-10480438
END:VEVENT

END:VCALENDAR
