BEGIN:VCALENDAR
VERSION:2.0
PRODID:-//ChamberMaster//Event Calendar 2.0//EN
METHOD:PUBLISH
X-PUBLISHED-TTL:P3D
REFRESH-INTERVAL:P3D
CALSCALE:GREGORIAN
BEGIN:VEVENT
DTSTART:20190827T223000Z
DTEND:20190828T000000Z
X-MICROSOFT-CDO-ALLDAYEVENT:FALSE
SUMMARY:SCORE Workshop-Financial Management 101 for Small Busines
DESCRIPTION:Dana Sperry\, a CPA with extensive small business experience will present key financial management considerations for growing or transforming your small business or starting a new small business - including:\n\n\n	Financial aspects of Entity types\n	Book Keeping for effective business operation that also accounts for IRS and NYS Tax implications\n	Financial Management Tools and Techniques recommendations\n\n\nQ& A session as time allows at the end of the session
X-ALT-DESC;FMTTYPE=text/html:<p style="margin: 0px\;"><span style="margin: 0px\; color: rgb(51\, 51\, 51)\; font-family: &quot\;Helvetica&quot\;\,sans-serif\; font-size: 10pt\;">Dana Sperry\, a CPA with extensive small business experience will present key financial management considerations for growing or transforming your small business or starting a new small business - including:</span></p>\n\n<ul style="margin-top:0in" type="disc">\n	<li style="margin: 0px\; color: rgb(51\, 51\, 51)\; font-family: &quot\;Helvetica&quot\;\,sans-serif\; font-size: 10pt\; font-style: normal\; font-weight: 400\;"><span style="margin: 0px\; font-family: &quot\;Helvetica&quot\;\,sans-serif\; font-size: 10pt\;">Financial aspects of Entity types</span></li>\n	<li style="margin: 0px\; color: rgb(51\, 51\, 51)\; font-family: &quot\;Helvetica&quot\;\,sans-serif\; font-size: 10pt\; font-style: normal\; font-weight: 400\;"><span style="margin: 0px\; font-family: &quot\;Helvetica&quot\;\,sans-serif\; font-size: 10pt\;">Book Keeping for effective business operation that also accounts for IRS and NYS Tax implications</span></li>\n	<li style="margin: 0px\; color: rgb(51\, 51\, 51)\; font-family: &quot\;Helvetica&quot\;\,sans-serif\; font-size: 10pt\; font-style: normal\; font-weight: 400\;"><span style="margin: 0px\; font-family: &quot\;Helvetica&quot\;\,sans-serif\; font-size: 10pt\;">Financial Management Tools and Techniques recommendations</span></li>\n</ul>\n\n<p style="background: white\; margin: 0px\; text-align: justify\;"><span style="margin: 0px\; color: rgb(51\, 51\, 51)\; font-family: &quot\;Helvetica&quot\;\,sans-serif\; font-size: 10pt\;">Q&amp\; A session as time allows at the end of the session</span></p>\n\n<p style="margin: 0px\;"><span style="margin: 0px\; font-family: &quot\;Arial&quot\;\,sans-serif\; font-size: 10pt\;"><font color="#000000">&nbsp\;</font></span></p>\n
LOCATION:Alley Room at the East Fishkill Community Library
UID:e.2770.10480441
SEQUENCE:3
DTSTAMP:20260422T223453Z
URL:http://dutchesscountyregional.smartcms.site/events/details/score-workshop-financial-management-101-for-small-busines-10480441
END:VEVENT

END:VCALENDAR
