BEGIN:VCALENDAR
VERSION:2.0
PRODID:-//ChamberMaster//Event Calendar 2.0//EN
METHOD:PUBLISH
X-PUBLISHED-TTL:P3D
REFRESH-INTERVAL:P3D
CALSCALE:GREGORIAN
BEGIN:VEVENT
DTSTART:20190417T200000Z
DTEND:20190417T220000Z
X-MICROSOFT-CDO-ALLDAYEVENT:FALSE
SUMMARY:Season Opener Barbecue for Landscapers and Hardscapers
DESCRIPTION:Landscapers\, Hardscapers\, Landscape architects\, Masons\, and Lawncare Specailist\n\nare invivite to celebrate our sesaon opening event at Page Landcape Supplies in Lagrangville. We will be opening up the season with an introduction to our products\, some great giveaways and BBQ!\n\n\n\nTalk with some of our most popular brands:\n\nCambridge Pavingstones\n\nEvironmental Stoneworks\n\nJonathan Greem\n\nAlliance\n\nand Libertystone
X-ALT-DESC;FMTTYPE=text/html:<strong>Landscapers\, Hardscapers\, Landscape architects\, Masons\, and Lawncare Specailist</strong><br />\nare invivite to celebrate our sesaon opening event at Page Landcape Supplies in Lagrangville. We will be opening up the season with an introduction to our products\, some great giveaways and BBQ!<br />\n<br />\n<strong>Talk with some of our most popular brands</strong>:<br />\nCambridge Pavingstones<br />\nEvironmental Stoneworks<br />\nJonathan Greem<br />\nAlliance<br />\nand Libertystone<br />\n&nbsp\;
LOCATION:Page Landscape Supply 1387 Route 55 Lagrangeville NY
UID:e.2770.10480595
SEQUENCE:3
DTSTAMP:20260423T055620Z
URL:http://dutchesscountyregional.smartcms.site/events/details/season-opener-barbacue-for-landscapers-and-hardscapers-10480595
END:VEVENT

END:VCALENDAR
