BEGIN:VCALENDAR
VERSION:2.0
PRODID:-//ChamberMaster//Event Calendar 2.0//EN
METHOD:PUBLISH
X-PUBLISHED-TTL:P3D
REFRESH-INTERVAL:P3D
CALSCALE:GREGORIAN
BEGIN:VEVENT
DTSTART:20191001T223000Z
DTEND:20191001T233000Z
X-MICROSOFT-CDO-ALLDAYEVENT:FALSE
SUMMARY:Seminar: Estate Planning Mistakes\, Solutions\, and Strategies
DESCRIPTION:A complimentary\, informational workshop\, designed specifically to discuss how you can help minimize your estate taxes while maximizing the assets you pass to your heirs.
X-ALT-DESC;FMTTYPE=text/html:<span style="color:rgb(29\, 33\, 41)\; font-family:system-ui\,-apple-system\,system-ui\,.sfnstext-regular\,sans-serif\; font-size:14px">A complimentary\, informational workshop\, designed specifically to discuss how you can help minimize your estate taxes while maximizing the assets you pass to your heirs.</span>
LOCATION:Kent Public Library 17 Sybils Xing\, Carmel\, New York 10512
UID:e.2770.10481159
SEQUENCE:3
DTSTAMP:20260422T172746Z
URL:http://dutchesscountyregional.smartcms.site/events/details/seminar-estate-planning-mistakes-solutions-and-strategies-10481159
END:VEVENT

END:VCALENDAR
