BEGIN:VCALENDAR
VERSION:2.0
PRODID:-//ChamberMaster//Event Calendar 2.0//EN
METHOD:PUBLISH
X-PUBLISHED-TTL:P3D
REFRESH-INTERVAL:P3D
CALSCALE:GREGORIAN
BEGIN:VEVENT
DTSTART:20200513T211500Z
DTEND:20200513T221500Z
X-MICROSOFT-CDO-ALLDAYEVENT:FALSE
SUMMARY:Simplify Your Spending and Saving Strategies Webinar hosted by John Leigh\, Financial Advisor with Edward Jones
DESCRIPTION:John Leigh is hosting a free webinar called: Simplify Your Spending and Saving Strategies.\n\n \nSimplify Your Spending and Saving Strategies Seminar is an educational program designed to help clients and prospective clients sharpen their spending and saving strategy. Participants will learn about:\n\n\n	Setting personal financial goals\n	Balancing saving\, spending and borrowing to achieve goals\n	Strategies for controlling debt and improving credit scores\n	Practical savings options for now through retirement
X-ALT-DESC;FMTTYPE=text/html:John Leigh is hosting a free webinar called: Simplify Your Spending and Saving Strategies.<br />\n&nbsp\;\n<p>Simplify Your Spending and Saving Strategies Seminar&nbsp\;is an educational program designed to help clients and prospective clients sharpen their spending and saving strategy. Participants will learn about:</p>\n\n<ul>\n	<li>Setting personal financial goals</li>\n	<li>Balancing saving\, spending and borrowing to achieve goals</li>\n	<li>Strategies for controlling debt and improving credit scores</li>\n	<li>Practical savings options for now through retirement</li>\n</ul>\n
LOCATION:Online Webinar
UID:e.2770.10483270
SEQUENCE:3
DTSTAMP:20260422T053847Z
URL:http://dutchesscountyregional.smartcms.site/events/details/simplify-your-spending-and-saving-strategies-webinar-hosted-by-john-leigh-financial-advisor-with-edward-jones-10483270
END:VEVENT

END:VCALENDAR
