BEGIN:VCALENDAR
VERSION:2.0
PRODID:-//ChamberMaster//Event Calendar 2.0//EN
METHOD:PUBLISH
X-PUBLISHED-TTL:P3D
REFRESH-INTERVAL:P3D
CALSCALE:GREGORIAN
BEGIN:VEVENT
DTSTART:20191116T180000Z
DTEND:20191116T210000Z
X-MICROSOFT-CDO-ALLDAYEVENT:FALSE
SUMMARY:Sip and Paint to support Julie’s Cause Cervical Cancer Foundation
DESCRIPTION:Come join us on Saturday November 16th for our first Sip and Paint Fundraiser. Paint a beautiful painting and enjoy a Sangria with friends. Door prizes and raffles. All money raised stays in the Hudson Valley to financially assist those dealing with affects of cervical cancer. 125Fifty\, 151 N Plank Rd\, Newburgh
X-ALT-DESC;FMTTYPE=text/html:<p>Come join us on Saturday November 16th for our first Sip and Paint Fundraiser. Paint a beautiful painting and enjoy a Sangria with friends. Door prizes and raffles. All money raised stays in the Hudson Valley to financially assist those dealing with affects of cervical cancer. 125Fifty\, 151 N Plank Rd\, Newburgh</p>\n
LOCATION:125Fifty 151 N Plank Rd\, Newburgh
UID:e.2770.10482535
SEQUENCE:3
DTSTAMP:20260422T155157Z
URL:http://dutchesscountyregional.smartcms.site/events/details/sip-and-paint-to-support-julie-s-cause-cervical-cancer-foundation-10482535
END:VEVENT

END:VCALENDAR
