BEGIN:VCALENDAR
VERSION:2.0
PRODID:-//ChamberMaster//Event Calendar 2.0//EN
METHOD:PUBLISH
X-PUBLISHED-TTL:P3D
REFRESH-INTERVAL:P3D
CALSCALE:GREGORIAN
BEGIN:VEVENT
DTSTART:20191220T233000Z
DTEND:20191221T040000Z
X-MICROSOFT-CDO-ALLDAYEVENT:FALSE
SUMMARY:Sm all Business Holiday Party
DESCRIPTION:Celebrate the season with your employees and co-workers at our full service holiday party. Enjoy cocktails and hors d'oeuvres then dinner\, dancing and dessert. Book your table today! Chamber members call to reserve to ask about a chamber special.
X-ALT-DESC;FMTTYPE=text/html:Celebrate the season with your employees and co-workers at our full service holiday party. Enjoy cocktails and hors d&#39\;oeuvres then dinner\, dancing and dessert. Book your table today! Chamber members call to reserve to ask about a chamber special.
LOCATION:17 Route 376 Hopewell Junction NY 12533
UID:e.2770.10482540
SEQUENCE:3
DTSTAMP:20260422T135948Z
URL:http://dutchesscountyregional.smartcms.site/events/details/sm-all-business-holiday-party-10482540
END:VEVENT

END:VCALENDAR
