BEGIN:VCALENDAR
VERSION:2.0
PRODID:-//ChamberMaster//Event Calendar 2.0//EN
METHOD:PUBLISH
X-PUBLISHED-TTL:P3D
REFRESH-INTERVAL:P3D
CALSCALE:GREGORIAN
BEGIN:VEVENT
DTSTART:20181222T200000Z
DTEND:20181223T000000Z
X-MICROSOFT-CDO-ALLDAYEVENT:FALSE
SUMMARY:Something Fishing Going On "Wine Tasting"
DESCRIPTION:"Something Fishy Going On"\n\nSaturday\, December 22nd\, 3:00-7pm\n\nEh! You Italian? You gonna havea da seven fishes for Christmas Eve?\n\nWe here at Marta's gonna sample da wines perfecto to go wida fish of any kinda. Doana miss it!
X-ALT-DESC;FMTTYPE=text/html:<p style="text-align:center"><strong><span style="font-size:24pt">&quot\;Something Fishy Going On&quot\;</span></strong></p>\n\n<p style="text-align:center"><span style="font-size:14pt"><strong><span style="color:rgb(165\, 71\, 134)\; font-size:24pt">Saturday\, December 22nd\, 3:00-7pm</span></strong></span><br />\nEh! You Italian? You gonna havea da seven fishes for Christmas Eve?<br />\nWe here at&nbsp\;<strong>Marta&rsquo\;s</strong>&nbsp\;gonna sample da wines perfecto to go wida fish of any kinda. Doana miss it!</p>\n\n<p style="text-align:center">&nbsp\;</p>\n
LOCATION:South Road Square 1955 South Rd\, Poughkeepsie\, NY 12601
UID:e.2770.10479955
SEQUENCE:3
DTSTAMP:20260425T142524Z
URL:http://dutchesscountyregional.smartcms.site/events/details/something-fishing-going-on-wine-tasting-10479955
END:VEVENT

END:VCALENDAR
