BEGIN:VCALENDAR
VERSION:2.0
PRODID:-//ChamberMaster//Event Calendar 2.0//EN
METHOD:PUBLISH
X-PUBLISHED-TTL:P3D
REFRESH-INTERVAL:P3D
CALSCALE:GREGORIAN
BEGIN:VEVENT
DTSTART:20210606T180000Z
DTEND:20210606T193000Z
X-MICROSOFT-CDO-ALLDAYEVENT:FALSE
SUMMARY:Special Dialogue with British Author - Raffi Berg of "Red Sea Spies\, The True Story
DESCRIPTION:Join us for a special and unique dialogue with British author Raffi Berg of "Red Sea Spies: The True Story of Mossad's Fake Holiday Resort" and Special Mossad Agent Dani Limor as they discuss how they were able to assist over 6\,000 Ethiopian Jews to Israel.\n\n \n\nIf you haven't seen the movie it is available on Netflix!
X-ALT-DESC;FMTTYPE=text/html:<span style="color:#232333"><span style="font-family:arial\,sans-serif"><span style="font-size:16.5pt">Join us for a special and unique dialogue with British author Raffi Berg of &quot\;Red Sea Spies: The True Story of Mossad&rsquo\;s Fake Holiday Resort&quot\; and Special Mossad Agent Dani Limor as they discuss how they were able to assist over 6\,000 Ethiopian Jews to Israel.</span></span></span><br />\n&nbsp\;<br />\n<span style="color:#232333"><span style="font-family:arial\,sans-serif"><span style="font-size:16.5pt">If you haven&#39\;t seen the movie it is available on Netflix!</span></span></span>
LOCATION:Virtual (Register at www.jewishdutchess.org/events)
UID:e.2770.10485158
SEQUENCE:3
DTSTAMP:20260421T084436Z
URL:http://dutchesscountyregional.smartcms.site/events/details/special-dialogue-with-british-author-raffi-berg-of-red-sea-spies-the-true-story-10485158
END:VEVENT

END:VCALENDAR
