BEGIN:VCALENDAR
VERSION:2.0
PRODID:-//ChamberMaster//Event Calendar 2.0//EN
METHOD:PUBLISH
X-PUBLISHED-TTL:P3D
REFRESH-INTERVAL:P3D
CALSCALE:GREGORIAN
BEGIN:VEVENT
DTSTART:20190223T170000Z
DTEND:20190223T183000Z
X-MICROSOFT-CDO-ALLDAYEVENT:FALSE
SUMMARY:Spinal Zap Reiki Workshop With Brett Bevell
DESCRIPTION:The human spine is our deepest expression of life force.\n\nBlockages from energetic debris can prevent us from being our fullest potential. Brett will share his new energy healing system\, "Magical Awakening"   to teach us how to release karmic knots and other emotional obstacles. Join us for this 90 minute workshop.\n\nSpace limited. $30 per person. Call 845-214-0452 to reserve.\n\n\n\n143 Boardman Rd\, Poughkeepsie\, NY\n\nthesource-ny.com\n\n"When life gets chaotic\, it's time to return to The Source"
X-ALT-DESC;FMTTYPE=text/html:<span style="color: rgb(29\, 33\, 41)\; font-family: helvetica\,arial\,sans-serif\; font-size: 14px\;">The human spine is our deepest expression of life force.</span><br />\n<span style="color: rgb(29\, 33\, 41)\; font-family: helvetica\,arial\,sans-serif\; font-size: 14px\;">Blockages from energetic debris can prevent us from being our fullest potential. Brett will share his new energy healing system\, &quot\;Magical Awakening&quot\; &reg\; to teach us how to release karmic knots and other emotional obstacles. Join us for this 90 minute workshop.</span><br />\n<span style="color: rgb(29\, 33\, 41)\; font-family: helvetica\,arial\,sans-serif\; font-size: 14px\;">Space limited. $30 per person. Call 845-214-0452 to reserve.</span><br />\n<br />\n<span style="color: rgb(29\, 33\, 41)\; font-family: helvetica\,arial\,sans-serif\; font-size: 14px\;">143 Boardman Rd\, Poughkeepsie\, NY</span><br />\n<a href="https://l.facebook.com/l.php?u=http%3A%2F%2Fthesource-ny.com%2F%3Ffbclid%3DIwAR2OtivA01bxv--w6hvtbWMVVtapkeOnisBxfpblDzoQrd5LeoI9vmt7yvY&amp\;h=AT32iASYWa7v12XCjD4pxKtF2rR3C2vNB8aVlT_44zHjJ1Qw9IGG2EKqnb-5-fHZCpaCWO5YLRQmMXzDpP1eDZaC5I-ZVy8FrUjjYKaqljx2qYA2p-9SdQSiXUw5A4qAKFU3" rel="nofollow noopener" style="color: rgb(54\, 88\, 153)\; font-family: Helvetica\, Arial\, sans-serif\; font-size: 14px\; white-space: pre-wrap\; cursor: pointer\; text-decoration-line: none\;" target="_blank">thesource-ny.com</a><br />\n<span style="color: rgb(29\, 33\, 41)\; font-family: helvetica\,arial\,sans-serif\; font-size: 14px\;">&quot\;When life gets chaotic\, it&#39\;s time to return to The Source&quot\;</span>
LOCATION:The Source NY 143 Boardman Rd\, Bldg 3 Poughkeepsie\, NY 12603
UID:e.2770.10480453
SEQUENCE:3
DTSTAMP:20260423T101552Z
URL:http://dutchesscountyregional.smartcms.site/events/details/spinal-zap-reiki-workshop-with-brett-bevell-10480453
END:VEVENT

END:VCALENDAR
