BEGIN:VCALENDAR
VERSION:2.0
PRODID:-//ChamberMaster//Event Calendar 2.0//EN
METHOD:PUBLISH
X-PUBLISHED-TTL:P3D
REFRESH-INTERVAL:P3D
CALSCALE:GREGORIAN
BEGIN:VEVENT
DTSTART:20190413T160000Z
DTEND:20190413T180000Z
X-MICROSOFT-CDO-ALLDAYEVENT:FALSE
SUMMARY:Spring Extravaganza!
DESCRIPTION:Great event for the little ones! \n\n\n\nJoin us\, Saturday\, April 13th from 12-2pm for our Annual Spring Extravaganza! *There will be no egg hunt this year\, however\, we will have plenty of free activities for the little ones!\n\n\n\nEnjoy an indoor exhibit by Two By Two Zoo to include a kangaroo\, goats\, rabbits\, a bearded dragon\, baby chicks\, and ducks and more!\n\n\n\nEnter a coloring contest or make a craft with Joann Fabrics. The Town of Poughkeepsie Police Dept. will be here as well conducting Child ID cards and the Arlington Professional Firefighters IAFF Local 2393 will be distributing fire prevention materials for the kids. \n\n\n\nGet your face painted while waiting for a visit from the Easter Bunny where you will have an opportunity to snap a picture or two.\n\n\n\nThis event is sponsored by WellCare- be sure to stop by their table for health care information. \n\n\n\nWe look forward to seeing you there!
X-ALT-DESC;FMTTYPE=text/html:<span style="color:rgb(29\, 33\, 41)\; font-family:helvetica\,arial\,sans-serif\; font-size:14px">Great event for the little ones! </span><br />\n<br />\n<span style="color:rgb(29\, 33\, 41)\; font-family:helvetica\,arial\,sans-serif\; font-size:14px">Join us\, Saturday\, April 13th from 12-2pm for our Annual Spring Extravaganza! *There will be no egg hunt this year\, however\, we will have plenty of free activities for the little ones!</span><br />\n<br />\n<span style="color:rgb(29\, 33\, 41)\; font-family:helvetica\,arial\,sans-serif\; font-size:14px">Enjoy an indoor exhibit by </span><a href="https://www.facebook.com/2x2Zoo/" style="color: rgb(54\, 88\, 153)\; cursor: pointer\; text-decoration-line: none\; font-family: Helvetica\, Arial\, sans-serif\; font-size: 14px\; white-space: pre-wrap\;" target="_blank">Two By Two Zoo</a><span style="color:rgb(29\, 33\, 41)\; font-family:helvetica\,arial\,sans-serif\; font-size:14px"> to include a kangaroo\, goats\, rabbits\, a bearded dragon\, baby chicks\, and ducks and more!</span><br />\n<br />\n<span style="color:rgb(29\, 33\, 41)\; font-family:helvetica\,arial\,sans-serif\; font-size:14px">Enter a coloring contest or make a craft with Joann Fabrics. The </span><a href="https://www.facebook.com/TownofPoughkeepsiePolice/" style="color: rgb(54\, 88\, 153)\; cursor: pointer\; text-decoration-line: none\; font-family: Helvetica\, Arial\, sans-serif\; font-size: 14px\; white-space: pre-wrap\;" target="_blank">Town of Poughkeepsie Police Dept.</a><span style="color:rgb(29\, 33\, 41)\; font-family:helvetica\,arial\,sans-serif\; font-size:14px"> will be here as well conducting Child ID cards and the </span><a href="https://www.facebook.com/Local2393/" style="color: rgb(54\, 88\, 153)\; cursor: pointer\; text-decoration-line: none\; font-family: Helvetica\, Arial\, sans-serif\; font-size: 14px\; white-space: pre-wrap\;" target="_blank">Arlington Professional Firefighters IAFF Local 2393</a><span style="color:rgb(29\, 33\, 41)\; font-family:helvetica\,arial\,sans-serif\; font-size:14px"> will be distributing fire prevention materials for the kids. </span><br />\n<br />\n<span style="color:rgb(29\, 33\, 41)\; font-family:helvetica\,arial\,sans-serif\; font-size:14px">Get your face painted while waiting for a visit from the Easter Bunny where you will have an opportunity to snap a picture or two.</span><br />\n<br />\n<span style="color:rgb(29\, 33\, 41)\; font-family:helvetica\,arial\,sans-serif\; font-size:14px">This event is sponsored by </span><a href="https://www.facebook.com/WellCareco/" style="color: rgb(54\, 88\, 153)\; cursor: pointer\; text-decoration-line: none\; font-family: Helvetica\, Arial\, sans-serif\; font-size: 14px\; white-space: pre-wrap\;" target="_blank">WellCare</a><span style="color:rgb(29\, 33\, 41)\; font-family:helvetica\,arial\,sans-serif\; font-size:14px">- be sure to stop by their table for health care information. </span><br />\n<br />\n<span style="color:rgb(29\, 33\, 41)\; font-family:helvetica\,arial\,sans-serif\; font-size:14px">We look forward to seeing you there!</span>
LOCATION:Poughkeepsie Plaza 2600 South Road\, Poughkeepsie
UID:e.2770.10480667
SEQUENCE:3
DTSTAMP:20260423T052706Z
URL:http://dutchesscountyregional.smartcms.site/events/details/spring-extravaganza-10480667
END:VEVENT

END:VCALENDAR
