BEGIN:VCALENDAR
VERSION:2.0
PRODID:-//ChamberMaster//Event Calendar 2.0//EN
METHOD:PUBLISH
X-PUBLISHED-TTL:P3D
REFRESH-INTERVAL:P3D
CALSCALE:GREGORIAN
BEGIN:VEVENT
DTSTART:20190316T210000Z
DTEND:20190317T020000Z
X-MICROSOFT-CDO-ALLDAYEVENT:FALSE
SUMMARY:St. Patrick's Day Celebration at The Links at Union Vale
DESCRIPTION:The Links at Union Vale gladly invites you to join us for a St. Patrick's Day Celebration!\n\n\n\nA delicious traditional Irish Buffet to celebrate St. Patrick's Day. The celebration will be March 16th from 5-10 p.m. Buffet will open at 5 pm and Band will begin at 6:30 pm.\n\n\n\nPlease\, be sure to RSVP to Alyssa at The Links\, by either email sales@luvgolf.com or phone 845-223-1002. \n\n\n\nThere will also be Irish drinking songs\, poignant folk ballads\, and energetic jigs by Eric Banger and The Mashers!\n\n\n\nAlso- a performance by Irish step dancers!\n\n\n\nPrice: $36.95 per person *Includes a complimentary drink ticket*
X-ALT-DESC;FMTTYPE=text/html:<span style="color: rgb(29\, 33\, 41)\; font-family: helvetica\,arial\,sans-serif\; font-size: 14px\;">The Links at Union Vale gladly invites you to join us for a St. Patrick&#39\;s Day Celebration!</span><br />\n<br />\n<span style="color: rgb(29\, 33\, 41)\; font-family: helvetica\,arial\,sans-serif\; font-size: 14px\;">A delicious traditional Irish Buffet to celebrate St. Patrick&#39\;s Day. The celebration will be March 16th from 5-10 p.m. Buffet will open at 5 pm and Band will begin at 6:30 pm.</span><br />\n<br />\n<span style="color: rgb(29\, 33\, 41)\; font-family: helvetica\,arial\,sans-serif\; font-size: 14px\;">Please\, be sure to RSVP to Alyssa at The Links\, by either email sales@luvgolf.com or phone 845-223-1002. </span><br />\n<br />\n<span style="color: rgb(29\, 33\, 41)\; font-family: helvetica\,arial\,sans-serif\; font-size: 14px\;">There will also be Irish drinking songs\, poignant folk ballads\, and energetic jigs by Eric Banger and The Mashers!</span><br />\n<br />\n<span style="color: rgb(29\, 33\, 41)\; font-family: helvetica\,arial\,sans-serif\; font-size: 14px\;">Also- a performance by Irish step dancers!<br />\n<br />\nPrice: $36.95 per person&nbsp\;*Includes a complimentary drink ticket*</span><br />\n&nbsp\;
LOCATION:153 North Parliman Road Lagrangeville New York\, 12540
UID:e.2770.10480475
SEQUENCE:3
DTSTAMP:20260423T072101Z
URL:http://dutchesscountyregional.smartcms.site/events/details/st-patrick-s-day-celebration-at-the-links-at-union-vale-10480475
END:VEVENT

END:VCALENDAR
