BEGIN:VCALENDAR
VERSION:2.0
PRODID:-//ChamberMaster//Event Calendar 2.0//EN
METHOD:PUBLISH
X-PUBLISHED-TTL:P3D
REFRESH-INTERVAL:P3D
CALSCALE:GREGORIAN
BEGIN:VEVENT
DTSTART:20200129T223000Z
DTEND:20200130T003000Z
X-MICROSOFT-CDO-ALLDAYEVENT:FALSE
SUMMARY:STAR WARS Trivia Night at the Mill House\, hosted by SunCommon
DESCRIPTION:Come to STAR WARS Trivia Night at the Mill House\, hosted by SunCommon\, your local soar power provider! There will be: -Solar trivia- -Prizes- -Free beer- Think you know STAR WARS? Come find out January 29th!!
X-ALT-DESC;FMTTYPE=text/html:Come to STAR WARS Trivia Night at the Mill House\, hosted by SunCommon\, your local soar power provider! There will be: -Solar trivia- -Prizes- -Free beer- Think you know STAR WARS? Come find out January 29th!!
LOCATION:The Mill House Brewing Company
UID:e.2770.10482649
SEQUENCE:3
DTSTAMP:20260422T121632Z
URL:http://dutchesscountyregional.smartcms.site/events/details/star-wars-trivia-night-at-the-mill-house-hosted-by-suncommon-10482649
END:VEVENT

END:VCALENDAR
