BEGIN:VCALENDAR
VERSION:2.0
PRODID:-//ChamberMaster//Event Calendar 2.0//EN
METHOD:PUBLISH
X-PUBLISHED-TTL:P3D
REFRESH-INTERVAL:P3D
CALSCALE:GREGORIAN
BEGIN:VEVENT
DTSTART:20190122T233000Z
DTEND:20190123T010000Z
X-MICROSOFT-CDO-ALLDAYEVENT:FALSE
SUMMARY:Startup Basis- SCORE Workshop
DESCRIPTION:This workshop focuses on the basics of testing your business idea and identifying the key factors that influence start-up success. Start-up Basics provides you with an overview of the skills and tools you need when deciding to start a business. In this session\, you learn about: the advantages and disadvantages of owning a business\, the most profitable form for your business\, and the fundamentals of formation\, organization\, marketing\, cash flow and funding sources.
X-ALT-DESC;FMTTYPE=text/html:<p style="margin: 0px\;"><span style="margin: 0px\; font-family: &quot\;Arial&quot\;\,sans-serif\; font-size: 10pt\;"><font color="#000000">This workshop focuses on the basics of testing your business idea and identifying the key factors that influence start-up success. Start-up Basics provides you with an overview of the skills and tools you need when deciding to start a business. In this session\, you learn about: the advantages and disadvantages of owning a business\, the most profitable form for your business\, and the fundamentals of formation\, organization\, marketing\, cash flow and funding sources.</font></span></p>\n
LOCATION:Alley Room and EFCL
UID:e.2770.10480434
SEQUENCE:3
DTSTAMP:20260425T123702Z
URL:http://dutchesscountyregional.smartcms.site/events/details/startup-basis-score-workshop-10480434
END:VEVENT

END:VCALENDAR
