BEGIN:VCALENDAR
VERSION:2.0
PRODID:-//ChamberMaster//Event Calendar 2.0//EN
METHOD:PUBLISH
X-PUBLISHED-TTL:P3D
REFRESH-INTERVAL:P3D
CALSCALE:GREGORIAN
BEGIN:VEVENT
DTSTART:20180505T003000Z
DTEND:20180505T033000Z
X-MICROSOFT-CDO-ALLDAYEVENT:FALSE
SUMMARY:Steel Returns to The Alley Kat!
DESCRIPTION:Stop by for local band Steel playng all the classics as well as current tunes and a a handful of their own music!\n\n\n\nGreat food\, impressive selection of craft beer\, mixed drinks and the fabulous music of Steel!\nCheck out the event details on our Facebook page:\n\nSteel returns to The Alley Kat!
X-ALT-DESC;FMTTYPE=text/html:<p><span style="color:rgb(75\, 79\, 86)\; font-family:system-ui\,-apple-system\,blinkmacsystemfont\,.sfnstext-regular\,sans-serif\; font-size:14px">Stop by for local band Steel playng all the classics as well as current tunes and a a handful of their own music!</span><br />\n<br />\n<span style="color:rgb(75\, 79\, 86)\; font-family:system-ui\,-apple-system\,blinkmacsystemfont\,.sfnstext-regular\,sans-serif\; font-size:14px">Great food\, impressive selection of craft beer\, mixed drinks and the fabulous music of Steel!</span></p>\nCheck out the event details on our Facebook page:<br />\n<a href="https://www.facebook.com/events/1931206823620865/">Steel returns to The Alley Kat!</a><br />\n&nbsp\;
LOCATION:The Alley Kat 1677 US 9 Wappingers Falls\, New York\, NY 12590
UID:e.2770.10477752
SEQUENCE:3
DTSTAMP:20260426T034421Z
URL:http://dutchesscountyregional.smartcms.site/events/details/steel-returns-to-the-alley-kat-05-04-2018-10477752
END:VEVENT

END:VCALENDAR
