BEGIN:VCALENDAR
VERSION:2.0
PRODID:-//ChamberMaster//Event Calendar 2.0//EN
METHOD:PUBLISH
X-PUBLISHED-TTL:P3D
REFRESH-INTERVAL:P3D
CALSCALE:GREGORIAN
BEGIN:VEVENT
DTSTART:20200829T210000Z
DTEND:20200829T223000Z
X-MICROSOFT-CDO-ALLDAYEVENT:FALSE
SUMMARY:Stissing Summer Variety Show
DESCRIPTION:INVITE YOUR FRIENDS. SHARE THIS WITH FAMILY. THIS IS GOING TO BE REALLY GOOD! Emmy Award-winning actress Margo Martindale will host this special free evening of music\, dance\, and spoken word\, featuring artists from across the country and around the block...with special appearances from some very familiar faces...all to benefit The Stissing Center!
X-ALT-DESC;FMTTYPE=text/html:INVITE YOUR FRIENDS. SHARE THIS WITH FAMILY. THIS IS GOING TO BE REALLY GOOD! Emmy Award-winning actress Margo Martindale will host this special free evening of music\, dance\, and spoken word\, featuring artists from across the country and around the block...with special appearances from some very familiar faces...all to benefit The Stissing Center!
LOCATION:You're invited to attend from the comfort of your own home. Make yourself some popcorn\, pour yourself a beverage\, and join us online!
UID:e.2770.10484451
SEQUENCE:3
DTSTAMP:20260422T003539Z
URL:http://dutchesscountyregional.smartcms.site/events/details/stissing-summer-variety-show-10484451
END:VEVENT

END:VCALENDAR
