BEGIN:VCALENDAR
VERSION:2.0
PRODID:-//ChamberMaster//Event Calendar 2.0//EN
METHOD:PUBLISH
X-PUBLISHED-TTL:P3D
REFRESH-INTERVAL:P3D
CALSCALE:GREGORIAN
BEGIN:VEVENT
DTSTART:20180616T140000Z
DTEND:20180616T200000Z
X-MICROSOFT-CDO-ALLDAYEVENT:FALSE
SUMMARY:Strawberry Jammin
DESCRIPTION:Celebrate all things strawberry at Fishkill Farm's annual Strawberry Jammin' Festival a berry good time for all ages! That's right\, we've planted even more strawberries making it our biggest year for strawberries ever! Spend the day enjoying live music by STAX of SOUL USA\, taking wagon rides through the orchard\, a kids strawberry themed craft\, and even strawberry-themed foods at the Fishkill Farms Grill and Farm Store! The Treasury Cider bar will be offering free samples of hard cider & selling Treasury by the glass & bottle. We're also bringing back our popular and delicious strawberry cider cocktail from last year's festival (made will all of our own fruit).
X-ALT-DESC;FMTTYPE=text/html:Celebrate all things strawberry at Fishkill Farm&#39\;s annual Strawberry Jammin&#39\; Festival&ndash\;a berry good time for all ages! That&#39\;s right\, we&#39\;ve planted even more strawberries making it our biggest year for strawberries ever! Spend the day enjoying live music by STAX of SOUL USA\, taking wagon rides through the orchard\, a kids strawberry themed craft\, and even strawberry-themed foods at the Fishkill Farms Grill and Farm Store! The Treasury Cider bar will be offering free samples of hard cider &amp\; selling Treasury by the glass &amp\; bottle. We&#39\;re also bringing back our popular and delicious strawberry cider cocktail from last year&#39\;s festival (made will all of our own fruit).
LOCATION:Fishkill Farms 9 Fishkill Farm Rd Hopewell Junction\, NY 12533
UID:e.2770.10477815
SEQUENCE:3
DTSTAMP:20260426T022134Z
URL:http://dutchesscountyregional.smartcms.site/events/details/strawberry-jammin-10477815
END:VEVENT

END:VCALENDAR
