BEGIN:VCALENDAR
VERSION:2.0
PRODID:-//ChamberMaster//Event Calendar 2.0//EN
METHOD:PUBLISH
X-PUBLISHED-TTL:P3D
REFRESH-INTERVAL:P3D
CALSCALE:GREGORIAN
BEGIN:VEVENT
DTSTART:20190405T000000Z
DTEND:20190523T230000Z
X-MICROSOFT-CDO-ALLDAYEVENT:FALSE
SUMMARY:Students of the Year Kick-Off
DESCRIPTION:This is a 7 week Campaign in which high school students from Dutchess County compete in a fundraising event to raise awareness and funds for Leukemia & Lymphoma Society. It develops leadership skills in entrepreneurship\, project management\, time management\, communications and networking\, community outreach\, making presentations\, and writing persuasive letters.
X-ALT-DESC;FMTTYPE=text/html:This is a 7 week Campaign in which high school students from Dutchess County compete in a fundraising event to raise awareness and funds for Leukemia &amp\; Lymphoma Society. It develops leadership skills in entrepreneurship\, project management\, time management\, communications and networking\, community outreach\, making presentations\, and writing persuasive letters.
LOCATION:TBA
UID:e.2770.10480218
SEQUENCE:3
DTSTAMP:20260423T035219Z
URL:http://dutchesscountyregional.smartcms.site/events/details/students-of-the-year-kick-off-10480218
END:VEVENT

END:VCALENDAR
