BEGIN:VCALENDAR
VERSION:2.0
PRODID:-//ChamberMaster//Event Calendar 2.0//EN
METHOD:PUBLISH
X-PUBLISHED-TTL:P3D
REFRESH-INTERVAL:P3D
CALSCALE:GREGORIAN
BEGIN:VEVENT
DTSTART:20190708T130000Z
DTEND:20190802T190000Z
X-MICROSOFT-CDO-ALLDAYEVENT:FALSE
SUMMARY:SUMMER YOUNG WRITERS PROGRAMS
DESCRIPTION:The Hudson Valley Writing Project offers remarkable summer experiences for students at the region's most important cultural and historic sites\, nature preserves\, and college campus in the Hudson Valley. Workshops are led by HVWP Teacher Consultants\, some of the best teachers in the Hudson Valley. With creative guidance\, writers will have opportunities and inspiration to write. At the end of each program\, writers will choose one piece to refine\, revise\, and share in an end-of-program celebration. The Hudson Valley Writing Project at SUNY New Paltz is an educational organization whose purpose is to promote literacy development and to improve writing in all disciplines and at all levels of education\, pre-kindergarten through college.
X-ALT-DESC;FMTTYPE=text/html:The Hudson Valley Writing Project offers remarkable summer experiences for students at the region&rsquo\;s most important cultural and historic sites\, nature preserves\, and college campus in the Hudson Valley. Workshops are led by HVWP Teacher Consultants\, some of the best teachers in the Hudson Valley. With creative guidance\, writers will have opportunities and inspiration to write. At the end of each program\, writers will choose one piece to refine\, revise\, and share in an end-of-program celebration. The Hudson Valley Writing Project at SUNY New Paltz is an educational organization whose purpose is to promote literacy development and to improve writing in all disciplines and at all levels of education\, pre-kindergarten through college.
LOCATION:
UID:e.2770.10480688
SEQUENCE:3
DTSTAMP:20260422T223243Z
URL:http://dutchesscountyregional.smartcms.site/events/details/summer-young-writers-programs-10480688
END:VEVENT

END:VCALENDAR
